BEGIN:VCALENDAR
VERSION:2.0
PRODID:-//Tukios.com/
BEGIN:VEVENT
UID:d7a7f698-fc3a-42c0-8d68-4b6af55885b9@www.carnegiesfuneralhome.com
DTSTAMP:20260423T021536Z
DTSTART:20260425T150000Z
DTEND:20260425T160000Z
SUMMARY:Celebration of Life
DESCRIPTION:Viewing One Hour Prior To Service.
URL:https://www.carnegiesfuneralhome.com/obituaries/thames-dempsey
LOCATION:Greater Rock-Hill Missionary Baptist Church 48 NE 10th St.  
	Williston FL 32696
GEO:29.3893744;-82.4352805
END:VEVENT
END:VCALENDAR