BEGIN:VCALENDAR
VERSION:2.0
PRODID:-//Tukios.com/
BEGIN:VEVENT
UID:7cdb0427-24d2-4140-88c1-c3ab3d00a8fc@www.carnegiesfuneralhome.com
DTSTAMP:20260423T021313Z
DTSTART:20260427T140000Z
DTEND:20260427T150000Z
SUMMARY:Interment
DESCRIPTION:
URL:https://www.carnegiesfuneralhome.com/obituaries/landon-mcbride
LOCATION:Florida National Cemetery 6502 SW 102nd Ave.  Bushnell FL 33513
GEO:28.6081552;-82.209369
END:VEVENT
END:VCALENDAR