BEGIN:VCALENDAR
VERSION:2.0
PRODID:-//Tukios.com/
BEGIN:VEVENT
UID:987c6594-e85f-464b-ba8f-24be40354944@www.carnegiesfuneralhome.com
DTSTAMP:20260423T021842Z
DTSTART:20260425T170000Z
DTEND:20260425T180000Z
SUMMARY:Celebration of Life
DESCRIPTION:Viewing One Hour Prior.
URL:https://www.carnegiesfuneralhome.com/obituaries/landon-mcbride
LOCATION: 217 South East 4th Avenue  Chiefland FL 32626
GEO:29.4762015;-82.8558984
END:VEVENT
END:VCALENDAR