BEGIN:VCALENDAR
VERSION:2.0
PRODID:-//Tukios.com/
BEGIN:VEVENT
UID:5d0df17a-0e0c-4582-9d2e-2dce80b7abf5@www.carnegiesfuneralhome.com
DTSTAMP:20260423T021504Z
DTSTART:20260425T173000Z
DTEND:20260425T183000Z
SUMMARY:Celebration of Life
DESCRIPTION:Viewing One Hour Prior To Service.
URL:https://www.carnegiesfuneralhome.com/obituaries/lamonica-oates
LOCATION: 2351 NE 200th Ave  Williston FL 32696
GEO:29.3639039;-82.4386711
END:VEVENT
END:VCALENDAR